BEGIN:VCALENDAR
VERSION:2.0
PRODID:-//Climate Action for Lifelong Learners - ECPv6.11.2//NONSGML v1.0//EN
CALSCALE:GREGORIAN
METHOD:PUBLISH
X-WR-CALNAME:Climate Action for Lifelong Learners
X-ORIGINAL-URL:https://www.climatelearners.ca
X-WR-CALDESC:Events for Climate Action for Lifelong Learners
REFRESH-INTERVAL;VALUE=DURATION:PT1H
X-Robots-Tag:noindex
X-PUBLISHED-TTL:PT1H
BEGIN:VTIMEZONE
TZID:America/Toronto
BEGIN:DAYLIGHT
TZOFFSETFROM:-0500
TZOFFSETTO:-0400
TZNAME:EDT
DTSTART:20220313T070000
END:DAYLIGHT
BEGIN:STANDARD
TZOFFSETFROM:-0400
TZOFFSETTO:-0500
TZNAME:EST
DTSTART:20221106T060000
END:STANDARD
END:VTIMEZONE
BEGIN:VEVENT
DTSTART;TZID=America/Toronto:20221011T100000
DTEND;TZID=America/Toronto:20221011T113000
DTSTAMP:20260424T013657
CREATED:20230525T212406Z
LAST-MODIFIED:20230831T011246Z
UID:1783-1665482400-1665487800@www.climatelearners.ca
SUMMARY:Elin Kelsey on her ground-breaking book "Hope Matters"
DESCRIPTION:THIS EVENT IS HAS ALREADY OCCURRED. \nScientist and award-winning author\, Elin Kelsey\, discussed her latest adult book: “Hope Matters: Why Changing the Way We Think is Critical to Solving the Environmental Crisis”. Elin is a recognized thought-leader in the evidence-based\, hope and climate solutions movement and is committed to building a solutions-oriented paradigm for educating environmental scientists and social scientists. She is an Adjunct Faculty member of the University of Victoria School of Environmental Studies\, and\, Western Washington University’s partnership in the Redfish School of Change.
URL:https://www.climatelearners.ca/event/elin-kelsey-on-hope-matters/
LOCATION:On Zoom\, Canada
CATEGORIES:Monthly learning meeting
ATTACH;FMTTYPE=image/png:https://www.climatelearners.ca/wp-content/uploads/2023/05/Elin-Kelsey_Hope-Matters-Oct-2022_Composite-1.png
ORGANIZER;CN="CALL - Climate Action for Lifelong Learners":MAILTO:contact.us@climatelearners.ca
END:VEVENT
END:VCALENDAR