BEGIN:VCALENDAR
VERSION:2.0
PRODID:-//Climate Action for Lifelong Learners - ECPv6.11.2//NONSGML v1.0//EN
CALSCALE:GREGORIAN
METHOD:PUBLISH
X-WR-CALNAME:Climate Action for Lifelong Learners
X-ORIGINAL-URL:https://www.climatelearners.ca
X-WR-CALDESC:Events for Climate Action for Lifelong Learners
REFRESH-INTERVAL;VALUE=DURATION:PT1H
X-Robots-Tag:noindex
X-PUBLISHED-TTL:PT1H
BEGIN:VTIMEZONE
TZID:America/Toronto
BEGIN:DAYLIGHT
TZOFFSETFROM:-0500
TZOFFSETTO:-0400
TZNAME:EDT
DTSTART:20230312T070000
END:DAYLIGHT
BEGIN:STANDARD
TZOFFSETFROM:-0400
TZOFFSETTO:-0500
TZNAME:EST
DTSTART:20231105T060000
END:STANDARD
END:VTIMEZONE
BEGIN:VEVENT
DTSTART;TZID=America/Toronto:20230912T100000
DTEND;TZID=America/Toronto:20230912T113000
DTSTAMP:20260423T070843
CREATED:20230831T202351Z
LAST-MODIFIED:20231109T142740Z
UID:2525-1694512800-1694518200@www.climatelearners.ca
SUMMARY:Individual Action interest group-Tuesday\, September 12\, 2023
DESCRIPTION:THIS MEETING HAS ALREADY OCCURRED. \nHas this summer reawakened your desire to lower your carbon footprint? If so\, join the group who are exploring green solutions with a focus on ideas for those who live in a condo or an apartment. For more information contact: membership@climatelearners.ca \nOur Individual Action interest group meets monthly on the second Tuesday of each month\, where we learn how to lower our personal emissions within our homes\, vehicles\, the food we eat and the things we do. Join us!
URL:https://www.climatelearners.ca/event/individual-action-interest-group-october-meeting/
LOCATION:On Zoom\, Canada
CATEGORIES:Interest Group meeting
ATTACH;FMTTYPE=image/png:https://www.climatelearners.ca/wp-content/uploads/2023/03/Green-Foot_carbon-footprint-graphic.png
ORGANIZER;CN="CALL - Climate Action for Lifelong Learners":MAILTO:contact.us@climatelearners.ca
END:VEVENT
END:VCALENDAR