BEGIN:VCALENDAR
VERSION:2.0
PRODID:-//Climate Action for Lifelong Learners - ECPv6.11.2//NONSGML v1.0//EN
CALSCALE:GREGORIAN
METHOD:PUBLISH
X-WR-CALNAME:Climate Action for Lifelong Learners
X-ORIGINAL-URL:https://www.climatelearners.ca
X-WR-CALDESC:Events for Climate Action for Lifelong Learners
REFRESH-INTERVAL;VALUE=DURATION:PT1H
X-Robots-Tag:noindex
X-PUBLISHED-TTL:PT1H
BEGIN:VTIMEZONE
TZID:America/Toronto
BEGIN:DAYLIGHT
TZOFFSETFROM:-0500
TZOFFSETTO:-0400
TZNAME:EDT
DTSTART:20230312T070000
END:DAYLIGHT
BEGIN:STANDARD
TZOFFSETFROM:-0400
TZOFFSETTO:-0500
TZNAME:EST
DTSTART:20231105T060000
END:STANDARD
END:VTIMEZONE
BEGIN:VEVENT
DTSTART;TZID=America/Toronto:20230920T100000
DTEND;TZID=America/Toronto:20230920T113000
DTSTAMP:20260423T070818
CREATED:20231109T144552Z
LAST-MODIFIED:20231109T144810Z
UID:2637-1695204000-1695209400@www.climatelearners.ca
SUMMARY:CALL-Climate Advocacy Meeting - Wednesday\, September 20\, 2023 @ 10:00 a.m. ET
DESCRIPTION:THIS MEETING HAS ALREADY OCCURRED. \nOn Wednesday\, September 20th\, the Climate Advocacy interest group met to discuss Ontario’s latest climate plan. “Powering Ontario’s Growth: Ontario’s Plan for a Clean Energy Future” and how we can advocate for a stronger green energy plan. \nAt CALL’s monthly Climate Advocacy interest group meetings\, we learn about climate change policies that will protect future generations on our planet and together we advocate with all levels of government. Join us! \nYou can contact us at: advocacy.action@climatelearners.ca.
URL:https://www.climatelearners.ca/event/call-climate-advocacy-meeting-wednesday-september-20-2023-1000-a-m-et/
LOCATION:On Zoom\, Canada
ATTACH;FMTTYPE=image/png:https://www.climatelearners.ca/wp-content/uploads/2023/05/Female-Activist-photo.png
END:VEVENT
END:VCALENDAR