BEGIN:VCALENDAR
VERSION:2.0
PRODID:-//Climate Action for Lifelong Learners - ECPv6.11.2//NONSGML v1.0//EN
CALSCALE:GREGORIAN
METHOD:PUBLISH
X-ORIGINAL-URL:https://www.climatelearners.ca
X-WR-CALDESC:Events for Climate Action for Lifelong Learners
REFRESH-INTERVAL;VALUE=DURATION:PT1H
X-Robots-Tag:noindex
X-PUBLISHED-TTL:PT1H
BEGIN:VTIMEZONE
TZID:America/Toronto
BEGIN:DAYLIGHT
TZOFFSETFROM:-0500
TZOFFSETTO:-0400
TZNAME:EDT
DTSTART:20230312T070000
END:DAYLIGHT
BEGIN:STANDARD
TZOFFSETFROM:-0400
TZOFFSETTO:-0500
TZNAME:EST
DTSTART:20231105T060000
END:STANDARD
END:VTIMEZONE
BEGIN:VEVENT
DTSTART;TZID=America/Toronto:20231018T100000
DTEND;TZID=America/Toronto:20231018T113000
DTSTAMP:20260423T052839
CREATED:20231109T004638Z
LAST-MODIFIED:20231109T011916Z
UID:2583-1697623200-1697628600@www.climatelearners.ca
SUMMARY:CALL-Climate Advocacy Meeting - Wednesday\, October 18\, 2023 @ 10:00 a.m. ET
DESCRIPTION:THIS MEETING HAS ALREADY OCCURRED.  Below is useful information about the meeting and how people were coached on participating in focused advocacy work around the Federal Draft CER (Clean Electricity Regulations) legislation in order for it to move forward. \nA video recording of this session is available by clicking here (Use PASSCODE cY26^JS1) \nAt this meeting\, our own Janet Haynes Graham kicked things off by summarizing the key provisions in the CER and highlighting the national campaign against the regulations by Alberta’s Premier.  Janet’s slides are attached here as a PDF. \nThen our guest Ken Love\, shared how he participates in the public consultation process\, specifically on submitting to the online consultation tool for the Draft CER (Clean Electricity Regulations).  Ken’s slides are attached here as a PDF. \n  \n“Action of the Day” – Draft Clean Electricity Regulations \nAt CALL\, we always include an Action of the Day at our monthly meetings – it’s a small action that’s connected to the meeting’s topic. Even though our monthly learning meeting of October 4th was not able to go on as planned (due to speaker illness)\, we did ask everyone to take up our planned “Action of the Day” to endorse and promote the Federal\, Draft Clean Electricity Regulations (CER). There was urgency there because the public consultation process ended on November 2nd. \nOther information we provided: \n\nThese regulations are critically important to achieving net-zero targets – there’s not much value to electrifying our cars and our heating if the electricity is generated by burning fossil fuels. You can learn about the CER from this blog post at the Canadian Climate Institute.\nCER detractors have mounted a blatant disinformation campaign aimed at the Canadian public\, urging them to complain to their MPs. It’s been funded by the Alberta government\, which they don’t reveal until the bottom of the long-scrolling webpage. We need to combat this negative campaign to prevent any delay in the CER implementation.\nACTION: Please Email your MP and your MPP (or the equivalent in your province) to tell them that you are among the many citizens who support the CER\, that you understand how critical these regulations are for reducing Canada’s CO2 emissions\, and that the CER needs to be implemented now.\nYou can find email addresses for federal MPs here and for Ontario MPPs here. (A Google search should work for those in other provinces.)\n\n  \n– Karen Sadlier Brown & Michael Barkley\, Co-Leads/Facilitators \nClimate Advocacy Interest Group\, CALL \ne-Mail: advocacy.action@climatelearners.ca 
URL:https://www.climatelearners.ca/event/call-climate-advocacy-interest-group-meeting-wednesday-october-18-2023-1000-a-m-on-zoom/
LOCATION:On Zoom\, Canada
ATTACH;FMTTYPE=image/png:https://www.climatelearners.ca/wp-content/uploads/2023/03/Globe-with-eyes.png
END:VEVENT
END:VCALENDAR