BEGIN:VCALENDAR
VERSION:2.0
PRODID:-//Climate Action for Lifelong Learners - ECPv6.11.2//NONSGML v1.0//EN
CALSCALE:GREGORIAN
METHOD:PUBLISH
X-ORIGINAL-URL:https://www.climatelearners.ca
X-WR-CALDESC:Events for Climate Action for Lifelong Learners
REFRESH-INTERVAL;VALUE=DURATION:PT1H
X-Robots-Tag:noindex
X-PUBLISHED-TTL:PT1H
BEGIN:VTIMEZONE
TZID:America/Toronto
BEGIN:DAYLIGHT
TZOFFSETFROM:-0500
TZOFFSETTO:-0400
TZNAME:EDT
DTSTART:20230312T070000
END:DAYLIGHT
BEGIN:STANDARD
TZOFFSETFROM:-0400
TZOFFSETTO:-0500
TZNAME:EST
DTSTART:20231105T060000
END:STANDARD
END:VTIMEZONE
BEGIN:VEVENT
DTSTART;TZID=America/Toronto:20231122T160000
DTEND;TZID=America/Toronto:20231122T173000
DTSTAMP:20260423T040132
CREATED:20231109T014608Z
LAST-MODIFIED:20231109T134645Z
UID:2597-1700668800-1700674200@www.climatelearners.ca
SUMMARY:Join CALL for a Book Discussion on Wednesday\, November 22nd at 4 p.m. ET on Zoom
DESCRIPTION:As a follow-up to our September 6th learning meeting on disinformation\, join us for a book discussion on Dr. Michael E. Mann’s book\, “The New Climate War: The Fight to Take Back Our Planet”. \nIn this book\, Dr. E. Mann argues that the old climate war of assault on the basic science of climate change by fossil fuel interests has been replaced by a new climate war. The opponents of climate action now have different tactics: \n\nGetting climate advocates fighting with each other so that we don’t have present a unified voice demanding change;\nDeflecting attention away from the needed systemic or policy solutions to to focus instead on individual behaviour.\n\nCLICK HERE TO REGISTER. You will receive an email confirmation with your personal Zoom link to join the meeting. \nYou do no need to have read the book to enjoy this book discussion. We will provide a summary. \n  \nWe hope to see you there! \nBook Discussion Organizers\, Karen Sadlier Brown & Joanne Hunter \n 
URL:https://www.climatelearners.ca/event/join-call-for-a-book-discussion-on-wednesday-november-22nd-at-4-p-m-et-on-zoom/
LOCATION:On Zoom\, Canada
ATTACH;FMTTYPE=image/png:https://www.climatelearners.ca/wp-content/uploads/2023/11/The-New-Climate-War_book-cover-LAN-view.png
ORGANIZER;CN="CALL - Climate Action for Lifelong Learners":MAILTO:contact.us@climatelearners.ca
END:VEVENT
END:VCALENDAR