BEGIN:VCALENDAR
VERSION:2.0
PRODID:-//Climate Action for Lifelong Learners - ECPv6.11.2//NONSGML v1.0//EN
CALSCALE:GREGORIAN
METHOD:PUBLISH
X-ORIGINAL-URL:https://www.climatelearners.ca
X-WR-CALDESC:Events for Climate Action for Lifelong Learners
REFRESH-INTERVAL;VALUE=DURATION:PT1H
X-Robots-Tag:noindex
X-PUBLISHED-TTL:PT1H
BEGIN:VTIMEZONE
TZID:America/Toronto
BEGIN:DAYLIGHT
TZOFFSETFROM:-0500
TZOFFSETTO:-0400
TZNAME:EDT
DTSTART:20230312T070000
END:DAYLIGHT
BEGIN:STANDARD
TZOFFSETFROM:-0400
TZOFFSETTO:-0500
TZNAME:EST
DTSTART:20231105T060000
END:STANDARD
END:VTIMEZONE
BEGIN:VEVENT
DTSTART;TZID=America/Toronto:20231203T150000
DTEND;TZID=America/Toronto:20231203T170000
DTSTAMP:20260423T022130
CREATED:20231109T020746Z
LAST-MODIFIED:20231109T134201Z
UID:2605-1701615600-1701622800@www.climatelearners.ca
SUMMARY:SAVE THE DATE FOR CALL'S SEASONAL GET-TOGETHER
DESCRIPTION:SAVE THE DATE! \nIt’s time to come together — in person — and to celebrate another year of climate learning! Join us to raise a glass to our accomplishments\, challenges and shared sense of purpose in fighting climate change. \nDate: Sunday\, December 3rd\, 2023 \nTime: 3-5 p.m. ET \nLocation: 35 Boardwalk Drive in the Beach (in the condo’s multipurpose room) \n  \nAn e-Mail invitation will be sent to everyone in November with more details. If you can volunteer to help organize this event or would like more information\, email: membership@climatelearners.ca \nSpecial thanks to Karen Sadlier-Brown for graciously hosting us again at this festive time of year. \n  \nWe hope to see you there! \n–  your Social Events Organizing Committee
URL:https://www.climatelearners.ca/event/save-the-date-for-calls-seasonal-get-together-sunday-december-3rd/
LOCATION:35 Boardwalk Drive\, Toronto\, 35 Boardwalk Drive\, Toronto\, Ontario\, M4L3Y8
ATTACH;FMTTYPE=image/jpeg:https://www.climatelearners.ca/wp-content/uploads/2023/11/CALL-Holiday-Party-Invite.jpeg
ORGANIZER;CN="CALL - Climate Action for Lifelong Learners":MAILTO:contact.us@climatelearners.ca
END:VEVENT
END:VCALENDAR