BEGIN:VCALENDAR
VERSION:2.0
PRODID:-//Climate Action for Lifelong Learners - ECPv6.11.2//NONSGML v1.0//EN
CALSCALE:GREGORIAN
METHOD:PUBLISH
X-ORIGINAL-URL:https://www.climatelearners.ca
X-WR-CALDESC:Events for Climate Action for Lifelong Learners
REFRESH-INTERVAL;VALUE=DURATION:PT1H
X-Robots-Tag:noindex
X-PUBLISHED-TTL:PT1H
BEGIN:VTIMEZONE
TZID:America/Toronto
BEGIN:DAYLIGHT
TZOFFSETFROM:-0500
TZOFFSETTO:-0400
TZNAME:EDT
DTSTART:20240310T070000
END:DAYLIGHT
BEGIN:STANDARD
TZOFFSETFROM:-0400
TZOFFSETTO:-0500
TZNAME:EST
DTSTART:20241103T060000
END:STANDARD
END:VTIMEZONE
BEGIN:VEVENT
DTSTART;TZID=America/Toronto:20240207T100000
DTEND;TZID=America/Toronto:20240207T113000
DTSTAMP:20260422T101143
CREATED:20240109T235218Z
LAST-MODIFIED:20240701T175550Z
UID:2671-1707300000-1707305400@www.climatelearners.ca
SUMMARY:LIFE AS A YOUTH CLIMATE ACTIVIST: WITH ALIENOR ROUGEOT OF ENVIRONMENTAL DEFENCE
DESCRIPTION:THIS MEETING HAS ALREADY OCCURRED. \nYOU CAN VIEW THE VIDEO RECORDING OF THE MEETING AND THE EXCITING Q&A THAT FOLLOWS WITH ALLIE ROUGEOT HERE. \nAt the February 7th CALL monthly learning meeting\, our guest speaker\, Aliénor Rougeot\, Program Manager – Climate and Energy at Environmental Defence\, gave her professional and personal take on COP28 in Dubai\, at which she was a first-time attendee. She also presented her experience and views on the past\, present and future of youth climate activism. She even graciously stayed on for an extra half hour to answer our many questions. \n \n 
URL:https://www.climatelearners.ca/event/life-as-a-youth-climate-activist-with-alienor-rougeot-of-environmental-defence/
LOCATION:On Zoom\, Canada
ORGANIZER;CN="CALL - Climate Action for Lifelong Learners":MAILTO:contact.us@climatelearners.ca
END:VEVENT
END:VCALENDAR