BEGIN:VCALENDAR
VERSION:2.0
PRODID:-//Climate Action for Lifelong Learners - ECPv6.11.2//NONSGML v1.0//EN
CALSCALE:GREGORIAN
METHOD:PUBLISH
X-ORIGINAL-URL:https://www.climatelearners.ca
X-WR-CALDESC:Events for Climate Action for Lifelong Learners
REFRESH-INTERVAL;VALUE=DURATION:PT1H
X-Robots-Tag:noindex
X-PUBLISHED-TTL:PT1H
BEGIN:VTIMEZONE
TZID:America/Toronto
BEGIN:DAYLIGHT
TZOFFSETFROM:-0500
TZOFFSETTO:-0400
TZNAME:EDT
DTSTART:20240310T070000
END:DAYLIGHT
BEGIN:STANDARD
TZOFFSETFROM:-0400
TZOFFSETTO:-0500
TZNAME:EST
DTSTART:20241103T060000
END:STANDARD
END:VTIMEZONE
BEGIN:VEVENT
DTSTART;TZID=America/Toronto:20240221T100000
DTEND;TZID=America/Toronto:20240221T113000
DTSTAMP:20260421T124701
CREATED:20240331T151257Z
LAST-MODIFIED:20240701T174037Z
UID:2713-1708509600-1708515000@www.climatelearners.ca
SUMMARY:CALL-Climate Advocacy Interest Group-Monthly Meeting-Wednesday\, February 21\, 2024 @ 10:00 a.m. ET on Zoom
DESCRIPTION:THIS MEETING HAS ALREADY OCCURRED. \nJoin us for this month’s Climate Advocacy interest group meeting on Wednesday\, February 21\, 2024 @ 10:00 a.m. ET\, when the group will continue our learning on how to be effective advocates in advancing climate solutions at all levels of government in the fight to protect our planet. You can also see how we learn and connect with other climate organizations and advocate for climate policies that protect the future for the next generation. \nHope to see you there! \n– Karen & Michael \nKaren Sadlier Brown & Michael Barkley\, Co-Leads/Facilitators \nClimate Advocacy Interest Group\, CALL \ne-Mail: advocacy.action@climatelearners.caÂ 
URL:https://www.climatelearners.ca/event/call-climate-advocacy-interest-group-monthly-meeting-wednesday-february-21-2024-1000-a-m-et-on-zoom/
LOCATION:On Zoom\, Canada
ATTACH;FMTTYPE=image/png:https://www.climatelearners.ca/wp-content/uploads/2023/05/Female-Activist-photo.png
END:VEVENT
END:VCALENDAR