BEGIN:VCALENDAR
VERSION:2.0
PRODID:-//Climate Action for Lifelong Learners - ECPv6.11.2//NONSGML v1.0//EN
CALSCALE:GREGORIAN
METHOD:PUBLISH
X-ORIGINAL-URL:https://www.climatelearners.ca
X-WR-CALDESC:Events for Climate Action for Lifelong Learners
REFRESH-INTERVAL;VALUE=DURATION:PT1H
X-Robots-Tag:noindex
X-PUBLISHED-TTL:PT1H
BEGIN:VTIMEZONE
TZID:America/Toronto
BEGIN:DAYLIGHT
TZOFFSETFROM:-0500
TZOFFSETTO:-0400
TZNAME:EDT
DTSTART:20240310T070000
END:DAYLIGHT
BEGIN:STANDARD
TZOFFSETFROM:-0400
TZOFFSETTO:-0500
TZNAME:EST
DTSTART:20241103T060000
END:STANDARD
END:VTIMEZONE
BEGIN:VEVENT
DTSTART;TZID=America/Toronto:20240501T100000
DTEND;TZID=America/Toronto:20240501T113000
DTSTAMP:20260420T013328
CREATED:20240329T133649Z
LAST-MODIFIED:20240701T171938Z
UID:2697-1714557600-1714563000@www.climatelearners.ca
SUMMARY:Climate Change Adaptation: Why do we need it and what are we doing?
DESCRIPTION:THIS EVENT HAS ALREADY OCCURRED. YOU CAN VIEW THE PRESENTATION & FIND FURTHER RESOURCES HERE. \nOn May 1st\, 2024\, CALL member Dr. Jennifer Penney presented on the topic: Climate Change Adaptation: Why do we need it and what are we doing?  \nActivists rightly prioritize reducing greenhouse gas emissions in the fight against climate change. However successful we are in reducing emissions\, climate change is already endangering us and will continue to do so for the foreseeable future. We need to understand these dangers and advocate for action that makes our communities less vulnerable. \n \nDr. Jennifer Penney shared with us ways to make our communities more adaptive and resilient and what the federal and provincial governments are doing (or not doing) to get us there. \n 
URL:https://www.climatelearners.ca/event/calls-may-learning-meeting-climate-change-adaptation-why-do-we-need-it-and-what-are-we-doing/
LOCATION:On Zoom\, Canada
ORGANIZER;CN="CALL - Climate Action for Lifelong Learners":MAILTO:contact.us@climatelearners.ca
END:VEVENT
END:VCALENDAR