BEGIN:VCALENDAR
VERSION:2.0
PRODID:-//Climate Action for Lifelong Learners - ECPv6.11.2//NONSGML v1.0//EN
CALSCALE:GREGORIAN
METHOD:PUBLISH
X-WR-CALNAME:Climate Action for Lifelong Learners
X-ORIGINAL-URL:https://www.climatelearners.ca
X-WR-CALDESC:Events for Climate Action for Lifelong Learners
REFRESH-INTERVAL;VALUE=DURATION:PT1H
X-Robots-Tag:noindex
X-PUBLISHED-TTL:PT1H
BEGIN:VTIMEZONE
TZID:America/Toronto
BEGIN:DAYLIGHT
TZOFFSETFROM:-0500
TZOFFSETTO:-0400
TZNAME:EDT
DTSTART:20240310T070000
END:DAYLIGHT
BEGIN:STANDARD
TZOFFSETFROM:-0400
TZOFFSETTO:-0500
TZNAME:EST
DTSTART:20241103T060000
END:STANDARD
END:VTIMEZONE
BEGIN:VEVENT
DTSTART;TZID=America/Toronto:20240515T100000
DTEND;TZID=America/Toronto:20240515T113000
DTSTAMP:20260420T012919
CREATED:20240511T215940Z
LAST-MODIFIED:20240701T164302Z
UID:2784-1715767200-1715772600@www.climatelearners.ca
SUMMARY:CALL Advocacy Work-Group Meeting on Climate Messaging @ 10:00 a.m.\, MAY 15-2024
DESCRIPTION:THESE MEETINGS HAVE ALREADY OCCURRED. \nThere will be no regular Advocacy meeting in May\, instead we will hold two separate meetings with the Advocacy working groups. You are welcome to join one or both of these meetings even if you haven’t been a member of the work-groups (for information on the afternoon work-group meeting on the Ontario Energy Transition at 1:00 p.m.\, CLICK HERE:) \nAdvocacy Work-Group on Climate Messaging\nWednesday\, May 15 at 10:00 a.m. \nThe group follows the latest research on climate messaging. At the meeting\, the will discuss 2024 report on “What Canadians Really Think About Climate Change” and John Marshall’s 3 strategies for talking about climate change. \nBefore the meeting here is an interesting webinar recording you can watch on climate messaging: \nThe Group of 78 had an interesting Learning Meeting on Messaging with Louise Comeau. If you missed the talk\, you can still view it on The Group of 78’s YouTube channel: https://youtu.be/RZpu5VAyu9s?si=qJtPSo58fOiYWdMM \n 
URL:https://www.climatelearners.ca/event/call-advocacy-work-group-meeting-on-climate-messaging/
LOCATION:On Zoom\, Canada
ATTACH;FMTTYPE=image/png:https://www.climatelearners.ca/wp-content/uploads/2023/05/Female-Activist-photo.png
ORGANIZER;CN="CALL - Climate Action for Lifelong Learners":MAILTO:contact.us@climatelearners.ca
END:VEVENT
BEGIN:VEVENT
DTSTART;TZID=America/Toronto:20240515T130000
DTEND;TZID=America/Toronto:20240515T143000
DTSTAMP:20260420T012919
CREATED:20240511T220113Z
LAST-MODIFIED:20240701T164202Z
UID:2786-1715778000-1715783400@www.climatelearners.ca
SUMMARY:CALL Advocacy Work-Group Meeting on the Ontario Energy Transition @ 1pm\, MAY 15-2024
DESCRIPTION:THESE MEETINGS HAVE ALREADY OCCURRED. \nThere will be no regular Advocacy meeting in May\, instead we will hold two separate meetings with the Advocacy working groups. You are welcome to join one or both of these meetings even if you haven’t been a member of the work-groups (for information on the earlier work-group meeting on climate messaging at 10:00 a.m.\, CLICK HERE:) \nAdvocacy Work-Group on the Ontario Energy Transition\nWednesday\, May 15 at 1:00 pm \nThe group discusses the challenges in aligning Ontario’s electricity system with net zero – and advocates for policies to support the transition. The group will review the status of Ontario’s transition and prepare plans for a learning meeting in the fall. \nKaren has but together a resource list of readings and podcasts that are invaluable for our Energy Transition discussions. Please take in what you are able as these readings/viewings may help us narrow the focus of the September Learning Meeting that we need to design: https://drive.google.com/file/d/1ALWwPMKgVvOpwdbjFRVvnqeiqcSaJFDF/view?usp=share_link \n  \n 
URL:https://www.climatelearners.ca/event/call-advocacy-work-group-meeting-on-the-ontario-energy-transition-1pm-may-15-2024/
LOCATION:On Zoom\, Canada
ATTACH;FMTTYPE=image/png:https://www.climatelearners.ca/wp-content/uploads/2023/03/Talking-about-climate-chnage_infographic.png
ORGANIZER;CN="CALL - Climate Action for Lifelong Learners":MAILTO:contact.us@climatelearners.ca
END:VEVENT
END:VCALENDAR