BEGIN:VCALENDAR
VERSION:2.0
PRODID:-//Climate Action for Lifelong Learners - ECPv6.11.2//NONSGML v1.0//EN
CALSCALE:GREGORIAN
METHOD:PUBLISH
X-ORIGINAL-URL:https://www.climatelearners.ca
X-WR-CALDESC:Events for Climate Action for Lifelong Learners
REFRESH-INTERVAL;VALUE=DURATION:PT1H
X-Robots-Tag:noindex
X-PUBLISHED-TTL:PT1H
BEGIN:VTIMEZONE
TZID:America/Toronto
BEGIN:DAYLIGHT
TZOFFSETFROM:-0500
TZOFFSETTO:-0400
TZNAME:EDT
DTSTART:20240310T070000
END:DAYLIGHT
BEGIN:STANDARD
TZOFFSETFROM:-0400
TZOFFSETTO:-0500
TZNAME:EST
DTSTART:20241103T060000
END:STANDARD
END:VTIMEZONE
BEGIN:VEVENT
DTSTART;TZID=America/Toronto:20240516T093000
DTEND;TZID=America/Toronto:20240516T103000
DTSTAMP:20260420T013329
CREATED:20240511T234355Z
LAST-MODIFIED:20240701T164053Z
UID:2799-1715851800-1715855400@www.climatelearners.ca
SUMMARY:RALLY TO SUPPORT THE NEW ONTARIO CLIMATE CHANGE ADAPTATION & RESILIENCE ACT AT QUEEN'S PARK\, @9:30 a.m. on Thursday\, May 16th\, 2024
DESCRIPTION:THIS EVENT HAS ALREADY OCCURRED. On Thursday May 16th at 9:30 a.m. at the Ontario Legislature\, MPP Peter Tabuns tabled a Private Member’s Bill\, the Ontario Climate Change Adaptation and Resilience Act. The Act was written with the help of Seniors for Climate Action Now! and Climate Action for Lifelong Learners member Jennifer Penney. The current government has no legislation in place to protect Ontarians from the impacts of climate change. If the government were to pass this Act\, it would acknowledge the impacts of climate change and reduce the harms of more frequent and intense extreme heat\, storms\, flooding and wildfires.\n\nThis rally was held near the front steps of the Ontario Legislature at Queen’s Park from 9:30-10:30 a.m. on Thursday\, May 16th\, 2024\, to support the introduction of the Act\, and to call on the government to adopt it.
URL:https://www.climatelearners.ca/event/rally-to-support-the-new-ontario-climate-change-adaptation-resilience-act-at-queens-park-930-a-m-on-thursday-may-16th-2024/
LOCATION:Queen’s Park\, Toronto\, Toronto\, Ontario\, Canada
ATTACH;FMTTYPE=image/png:https://www.climatelearners.ca/wp-content/uploads/2023/05/Female-Activist-photo.png
ORGANIZER;CN="CALL - Climate Action for Lifelong Learners":MAILTO:contact.us@climatelearners.ca
END:VEVENT
END:VCALENDAR