BEGIN:VCALENDAR
VERSION:2.0
PRODID:-//Climate Action for Lifelong Learners - ECPv6.11.2//NONSGML v1.0//EN
CALSCALE:GREGORIAN
METHOD:PUBLISH
X-ORIGINAL-URL:https://www.climatelearners.ca
X-WR-CALDESC:Events for Climate Action for Lifelong Learners
REFRESH-INTERVAL;VALUE=DURATION:PT1H
X-Robots-Tag:noindex
X-PUBLISHED-TTL:PT1H
BEGIN:VTIMEZONE
TZID:America/Toronto
BEGIN:DAYLIGHT
TZOFFSETFROM:-0500
TZOFFSETTO:-0400
TZNAME:EDT
DTSTART:20240310T070000
END:DAYLIGHT
BEGIN:STANDARD
TZOFFSETFROM:-0400
TZOFFSETTO:-0500
TZNAME:EST
DTSTART:20241103T060000
END:STANDARD
END:VTIMEZONE
BEGIN:VEVENT
DTSTART;TZID=America/Toronto:20241001T133000
DTEND;TZID=America/Toronto:20241001T160000
DTSTAMP:20260419T172319
CREATED:20240825T131208Z
LAST-MODIFIED:20240920T191128Z
UID:2924-1727789400-1727798400@www.climatelearners.ca
SUMMARY:SENIORS FOR CLIMATE - OCTOBER 1ST NATIONAL CLIMATE DAY! JOIN US IN TORONTO & ACROSS THE COUNTRY!
DESCRIPTION:Fossil fuel emissions are causing fires\, floods\, droughts and heat domes. On October 1st\, seniors support youth to say ENOUGH to the federal government. \nExpand renewable sources of energy immediately – Stop burning fossil fuels – Stop opposing youth and Indigenous climate cases in court. \nThe Seniors for Climate project will hold 50+ events across Canada. Check the Seniors for Climate website for an event near you. Below are details of the planned Toronto event. Everyone is welcome. It is also being live-streamed (link below). \nJoin the Toronto event! \nTuesday Oct. 1 \nRally: 1:30 University Avenue and Armoury. \nMarch: to the Church of the Holy Trinity\, 10 Trinity Sq. starting at 2:30 \nGet inspired by David Phillips\, David Suzuki\, Lillian Allen and more! \nMasks are welcome • Bring your own bottle \nIf you cannot join us “live”\, you can view a Livestream of the Toronto event by clicking here: \nseniorsforclimate.org/
URL:https://www.climatelearners.ca/event/seniors-for-climate-national-climate-day-join-us-in-toronto-across-the-country/
LOCATION:Starting at University Avenue & Armoury\, ending at Church of the Holy Trinity\, University Avenue & Armoury\, Toronto\, Ontario\, Canada
ATTACH;FMTTYPE=image/png:https://www.climatelearners.ca/wp-content/uploads/2024/08/Screenshot-2024-08-25-at-9.10.36 AM.png
END:VEVENT
BEGIN:VEVENT
DTSTART;TZID=America/Toronto:20241001T133000
DTEND;TZID=America/Toronto:20241001T160000
DTSTAMP:20260419T172319
CREATED:20240920T153248Z
LAST-MODIFIED:20240920T192803Z
UID:2955-1727789400-1727798400@www.climatelearners.ca
SUMMARY:SENIORS FOR CLIMATE OCTOBER 1ST - TORONTO EVENT
DESCRIPTION:Join the Toronto event featuring David Suzuki\nTuesday\, October 1st\nRally: starting at 1:30 p.m. Meet at University and Armoury \nMarch: starting at 2:30\, we will march to The Church of the Holy Trinity\, 10 Trinity Square\, Toronto \nIn case you cannot join us “live” in Toronto\, you can view a Livestream of the event by clicking here: \n  \n 
URL:https://www.climatelearners.ca/event/2955/
LOCATION:Starting at University Avenue & Armoury\, ending at Church of the Holy Trinity\, University Avenue & Armoury\, Toronto\, Ontario\, Canada
ATTACH;FMTTYPE=image/png:https://www.climatelearners.ca/wp-content/uploads/2024/09/SFC-Toronto-Event-Poster-Graphic-e1726860454667.png
END:VEVENT
END:VCALENDAR