BEGIN:VCALENDAR
VERSION:2.0
PRODID:-//Climate Action for Lifelong Learners - ECPv6.11.2//NONSGML v1.0//EN
CALSCALE:GREGORIAN
METHOD:PUBLISH
X-WR-CALNAME:Climate Action for Lifelong Learners
X-ORIGINAL-URL:https://www.climatelearners.ca
X-WR-CALDESC:Events for Climate Action for Lifelong Learners
REFRESH-INTERVAL;VALUE=DURATION:PT1H
X-Robots-Tag:noindex
X-PUBLISHED-TTL:PT1H
BEGIN:VTIMEZONE
TZID:America/Toronto
BEGIN:DAYLIGHT
TZOFFSETFROM:-0500
TZOFFSETTO:-0400
TZNAME:EDT
DTSTART:20240310T070000
END:DAYLIGHT
BEGIN:STANDARD
TZOFFSETFROM:-0400
TZOFFSETTO:-0500
TZNAME:EST
DTSTART:20241103T060000
END:STANDARD
END:VTIMEZONE
BEGIN:VEVENT
DTSTART;TZID=America/Toronto:20241008T100000
DTEND;TZID=America/Toronto:20241008T113000
DTSTAMP:20260419T172012
CREATED:20240930T132355Z
LAST-MODIFIED:20240930T132747Z
UID:2976-1728381600-1728387000@www.climatelearners.ca
SUMMARY:Individual Action interest group meeting\, October 8th\, 2024
DESCRIPTION:Individual Action Group meeting on Tuesday October 8\, at 10 am ET \nAt our next meeting\, we will have a short debrief of the Seniors for Climate nationwide October 1 events and then go on to discuss the National Observer articles below about green building techniques. Although the articles do not specifically address multi-unit residential buildings\, there are several ideas that could be implemented in our own homes. \n\nGreen building pioneers chart persuasive paths to profit\n‘All of a sudden we’re cool’ — Green builders draft a cleaner\, more profitable blueprint for construction\n\nYou can join the meeting by clicking on this zoom link\nMeeting ID: 833 9366 6045\nPasscode: 397512 \nWith warm wishes\, \nSharon\nLead\, Individual Action Group
URL:https://www.climatelearners.ca/event/october-8th-2024-individual-action-meeting/
LOCATION:On Zoom\, Canada
ATTACH;FMTTYPE=image/png:https://www.climatelearners.ca/wp-content/uploads/2023/03/Green-Foot_carbon-footprint-graphic.png
ORGANIZER;CN="CALL - Climate Action for Lifelong Learners":MAILTO:contact.us@climatelearners.ca
END:VEVENT
END:VCALENDAR