BEGIN:VCALENDAR
VERSION:2.0
PRODID:-//Climate Action for Lifelong Learners - ECPv6.11.2//NONSGML v1.0//EN
CALSCALE:GREGORIAN
METHOD:PUBLISH
X-WR-CALNAME:Climate Action for Lifelong Learners
X-ORIGINAL-URL:https://www.climatelearners.ca
X-WR-CALDESC:Events for Climate Action for Lifelong Learners
REFRESH-INTERVAL;VALUE=DURATION:PT1H
X-Robots-Tag:noindex
X-PUBLISHED-TTL:PT1H
BEGIN:VTIMEZONE
TZID:America/Toronto
BEGIN:DAYLIGHT
TZOFFSETFROM:-0500
TZOFFSETTO:-0400
TZNAME:EDT
DTSTART:20240310T070000
END:DAYLIGHT
BEGIN:STANDARD
TZOFFSETFROM:-0400
TZOFFSETTO:-0500
TZNAME:EST
DTSTART:20241103T060000
END:STANDARD
END:VTIMEZONE
BEGIN:VEVENT
DTSTART;TZID=America/Toronto:20241120T100000
DTEND;TZID=America/Toronto:20241120T113000
DTSTAMP:20260419T153918
CREATED:20241111T194321Z
LAST-MODIFIED:20241111T194627Z
UID:3086-1732096800-1732102200@www.climatelearners.ca
SUMMARY:Climate Advocacy interest group meeting: Wednesday\, November 20\, 2024 at 10:00 a.m. ET
DESCRIPTION:As we face the likelihood of elections at both the federal and provincial levels over the coming months\, the group will learn about and discuss how we can best advocate for and support solutions that will lead to a better world.  The focus for this meeting will be on preparing for the possible elections\, messaging climate policies that impact affordability and following up on the Advocacy group’s action plan. \nClick here to join the online meeting. \nCALL’s Climate Advocacy interest group was created for members to learn\, and connect with other climate organizations and advocate for policies that will make the world a better place free from the destruction caused by burning fossil fuels. The group is co-led by Michael Barkley and Karen Sadlier-Brown. \nYou can email us at: advocacy.action@climatelearners.ca
URL:https://www.climatelearners.ca/event/climate-advocacy-interest-group-meeting-wednesday-november-20-2024-at-1000-a-m-et/
LOCATION:On Zoom\, Canada
CATEGORIES:Interest Group meeting
ATTACH;FMTTYPE=image/png:https://www.climatelearners.ca/wp-content/uploads/2023/05/Female-Activist-photo.png
END:VEVENT
END:VCALENDAR