BEGIN:VCALENDAR
VERSION:2.0
PRODID:-//Climate Action for Lifelong Learners - ECPv6.11.2//NONSGML v1.0//EN
CALSCALE:GREGORIAN
METHOD:PUBLISH
X-ORIGINAL-URL:https://www.climatelearners.ca
X-WR-CALDESC:Events for Climate Action for Lifelong Learners
REFRESH-INTERVAL;VALUE=DURATION:PT1H
X-Robots-Tag:noindex
X-PUBLISHED-TTL:PT1H
BEGIN:VTIMEZONE
TZID:America/Toronto
BEGIN:DAYLIGHT
TZOFFSETFROM:-0500
TZOFFSETTO:-0400
TZNAME:EDT
DTSTART:20250309T070000
END:DAYLIGHT
BEGIN:STANDARD
TZOFFSETFROM:-0400
TZOFFSETTO:-0500
TZNAME:EST
DTSTART:20251102T060000
END:STANDARD
END:VTIMEZONE
BEGIN:VEVENT
DTSTART;TZID=America/Toronto:20250422T100000
DTEND;TZID=America/Toronto:20250422T123000
DTSTAMP:20260421T054305
CREATED:20250421T180907Z
LAST-MODIFIED:20250421T181206Z
UID:3177-1745316000-1745325000@www.climatelearners.ca
SUMMARY:CALL: Earth Day Walk - Tuesday\, April 22nd at:   The Brickworks - 10:00 a.m. - 12:30 p.m.
DESCRIPTION:Join us for a serene nature meditation walk\, where we will cultivate mindfulness and immerse ourselves in the tranquility and beauty of nature. \nMeet: In front of the Picnic Café at The Brickworks \nWhat to bring: comfortable walking shoes\, water\, and dress appropriately for the weather. \nOptional: After the walk\, stay and have lunch or a snack at The Picnic Café. \nHere is a link to various transportation options: including: Walking\, TTC\, Shuttle Bus\, Driving or Biking. \n  \nWe look forward to sharing this peaceful journey with you! \nJoanne Hunter & Judy Sheridan\, \nCALL – Nature-based Solutions Interest Group
URL:https://www.climatelearners.ca/event/call-earth-day-walk-april-22nd-at-the-brickworks-1000-a-m-1230-p-m/
LOCATION:550 Bayview Avenue\, The Brickworks\, 550 Bayview Avenue\, Toronto\, Ontario\, M4W3X8\, Canada
ATTACH;FMTTYPE=image/png:https://www.climatelearners.ca/wp-content/uploads/2025/04/Screenshot-2025-04-21-at-2.02.33 PM.png
END:VEVENT
END:VCALENDAR