BEGIN:VCALENDAR
VERSION:2.0
PRODID:-//Climate Action for Lifelong Learners - ECPv6.11.2//NONSGML v1.0//EN
CALSCALE:GREGORIAN
METHOD:PUBLISH
X-WR-CALNAME:Climate Action for Lifelong Learners
X-ORIGINAL-URL:https://www.climatelearners.ca
X-WR-CALDESC:Events for Climate Action for Lifelong Learners
REFRESH-INTERVAL;VALUE=DURATION:PT1H
X-Robots-Tag:noindex
X-PUBLISHED-TTL:PT1H
BEGIN:VTIMEZONE
TZID:America/Toronto
BEGIN:DAYLIGHT
TZOFFSETFROM:-0500
TZOFFSETTO:-0400
TZNAME:EDT
DTSTART:20220313T070000
END:DAYLIGHT
BEGIN:STANDARD
TZOFFSETFROM:-0400
TZOFFSETTO:-0500
TZNAME:EST
DTSTART:20221106T060000
END:STANDARD
END:VTIMEZONE
BEGIN:VEVENT
DTSTART;TZID=America/Toronto:20220907T100000
DTEND;TZID=America/Toronto:20220907T113000
DTSTAMP:20260424T013751
CREATED:20230525T220025Z
LAST-MODIFIED:20230831T011012Z
UID:1795-1662544800-1662550200@www.climatelearners.ca
SUMMARY:Clouds: changing the narrative on climate change\, with Dr. Romila Verma
DESCRIPTION:Image: Chris Holifield Storm approaching Kiln Lane Buxhall; License: Creative Commons CC BY-SA 2.0 \nTHIS EVENT HAS ALREADY OCCURRED. \nGuest speaker Dr. Romila Verma looked at climate through the lens of nature’s water cycle in her talk\, “Clouds: changing the narrative on climate change.” She showed that climate is about the movement and storage of water on a global scale\, and explored creative solutions to climate change\, the most perplexing and complex anthropogenic disaster of our generation. \n  \n \nBiographical Background\, Dr. Romila Verma: \nDr. Romila Verma is an Instructor on water and environmental issues at University of Toronto’s School of the Environment and Department of Geography.  She is an innovative researcher\, speaker\, artist and documentary film-maker. Her experience growing up with resource inequity in India fuels her desire to educate\, research\, and find creative solutions to global challenges like freshwater shortage and climate change impacts. She is the founder of Water Speaks\, an initiative that strives to translate the voice of water through research\, education\, and action. As the Founding Director of Trans Africa Pipeline (TAP)\, she is working on solutions to provide clean\, safe water to the residents of the Sahel region of Africa.
URL:https://www.climatelearners.ca/event/calls-september-learning-meeting-clouds-changing-the-narrative-on-climate-change-with-dr-romila-verma/
CATEGORIES:Monthly learning meeting
ATTACH;FMTTYPE=image/png:https://www.climatelearners.ca/wp-content/uploads/2023/05/Clouds-Changing-the-Narrative.png
END:VEVENT
END:VCALENDAR