BEGIN:VCALENDAR
VERSION:2.0
PRODID:-//Climate Action for Lifelong Learners - ECPv6.11.2//NONSGML v1.0//EN
CALSCALE:GREGORIAN
METHOD:PUBLISH
X-WR-CALNAME:Climate Action for Lifelong Learners
X-ORIGINAL-URL:https://www.climatelearners.ca
X-WR-CALDESC:Events for Climate Action for Lifelong Learners
REFRESH-INTERVAL;VALUE=DURATION:PT1H
X-Robots-Tag:noindex
X-PUBLISHED-TTL:PT1H
BEGIN:VTIMEZONE
TZID:America/Toronto
BEGIN:DAYLIGHT
TZOFFSETFROM:-0500
TZOFFSETTO:-0400
TZNAME:EDT
DTSTART:20220313T070000
END:DAYLIGHT
BEGIN:STANDARD
TZOFFSETFROM:-0400
TZOFFSETTO:-0500
TZNAME:EST
DTSTART:20221106T060000
END:STANDARD
END:VTIMEZONE
BEGIN:VEVENT
DTSTART;TZID=America/Toronto:20221102T100000
DTEND;TZID=America/Toronto:20221102T113000
DTSTAMP:20260423T221635
CREATED:20230525T205359Z
LAST-MODIFIED:20230831T011428Z
UID:1774-1667383200-1667388600@www.climatelearners.ca
SUMMARY:The Big Switch: Powering Canada's Net Zero Future
DESCRIPTION:THIS EVENT IS HAS ALREADY OCCURRED. \nJason Dion\, Mitigation Research Director at the Canadian Climate Institute\, spoke to the report he co-authored\, The Big Switch: Powering Canada’s Net Zero Future. \n \nJason Dion\, Mitigation Research Director at the Canadian Climate Institute
URL:https://www.climatelearners.ca/event/the-big-switch-powering-canadas-net-zero-future/
LOCATION:On Zoom\, Canada
CATEGORIES:Monthly learning meeting
ATTACH;FMTTYPE=image/png:https://www.climatelearners.ca/wp-content/uploads/2023/05/Big-Switch-Jason-Dion-Title-Slide-e1685048502990.png
ORGANIZER;CN="CALL - Climate Action for Lifelong Learners":MAILTO:contact.us@climatelearners.ca
END:VEVENT
END:VCALENDAR