BEGIN:VCALENDAR
VERSION:2.0
PRODID:-//Climate Action for Lifelong Learners - ECPv6.11.2//NONSGML v1.0//EN
CALSCALE:GREGORIAN
METHOD:PUBLISH
X-ORIGINAL-URL:https://www.climatelearners.ca
X-WR-CALDESC:Events for Climate Action for Lifelong Learners
REFRESH-INTERVAL;VALUE=DURATION:PT1H
X-Robots-Tag:noindex
X-PUBLISHED-TTL:PT1H
BEGIN:VTIMEZONE
TZID:America/Toronto
BEGIN:DAYLIGHT
TZOFFSETFROM:-0500
TZOFFSETTO:-0400
TZNAME:EDT
DTSTART:20230312T070000
END:DAYLIGHT
BEGIN:STANDARD
TZOFFSETFROM:-0400
TZOFFSETTO:-0500
TZNAME:EST
DTSTART:20231105T060000
END:STANDARD
END:VTIMEZONE
BEGIN:VEVENT
DTSTART;TZID=America/Toronto:20230503T100000
DTEND;TZID=America/Toronto:20230503T113000
DTSTAMP:20260423T122534
CREATED:20230525T193909Z
LAST-MODIFIED:20230831T012143Z
UID:1755-1683108000-1683113400@www.climatelearners.ca
SUMMARY:Winemakers taking on Climate Change
DESCRIPTION:THIS EVENT HAS ALREADY OCCURRED. A video and other learning resources are available here. \nIt’s not an exaggeration to say climate change has altered the wine industry forever. From grape-growing to winemaking\, it has spawned an encouraging and sometime bewildering array of farming practices – forcing producers to adopt more sustainable methods of production… RAW\, natural\, organic\, biodynamic\, regenerative\, low-intervention\, permaculture\, polyculture and more. \nDebbie Gordon (CALL supporter and certified Sommelier and Canadian wine scholar) interviewed Steve Matthiasson of Matthiasson Wines in Napa Valley. Steve and his wife Jill are committed environmentalists and certified organic farmers who evaluate every agricultural decision through the lens of sustainability.  Debbie also interviewed Andrea Kaiser (Chair of Sustainable Winegrowing Ontario) to get an update on Ontario’s Wine Sustainability Certification and how the province’s winegrowers are adopting resilience strategies.
URL:https://www.climatelearners.ca/event/winemakers-taking-on-climate-change/
LOCATION:On Zoom\, Canada
CATEGORIES:Monthly learning meeting
ATTACH;FMTTYPE=image/png:https://www.climatelearners.ca/wp-content/uploads/2023/05/Matthiasson-composite.png
ORGANIZER;CN="CALL - Climate Action for Lifelong Learners":MAILTO:contact.us@climatelearners.ca
END:VEVENT
BEGIN:VEVENT
DTSTART;TZID=America/Toronto:20230530T100000
DTEND;TZID=America/Toronto:20230530T113000
DTSTAMP:20260423T122534
CREATED:20230526T144901Z
LAST-MODIFIED:20230831T012328Z
UID:1853-1685440800-1685446200@www.climatelearners.ca
SUMMARY:Invasive Plants in our Gardens & Ravines and their Environmental Impact
DESCRIPTION:THIS EVENT IS HAS ALREADY OCCURRED. \nJanet Haynes Graham (CALL supporter) led a discussion about the environmental impact that invasive plants have on gardens and ravines.
URL:https://www.climatelearners.ca/event/invasive-plants-in-our-gardens-ravines-and-their-environmental-impact/
LOCATION:On Zoom\, Canada
CATEGORIES:Interest Group meeting
ATTACH;FMTTYPE=image/png:https://www.climatelearners.ca/wp-content/uploads/2023/03/Tree-planting-photo.png
END:VEVENT
END:VCALENDAR