BEGIN:VCALENDAR
VERSION:2.0
PRODID:-//Climate Action for Lifelong Learners - ECPv6.11.2//NONSGML v1.0//EN
CALSCALE:GREGORIAN
METHOD:PUBLISH
X-WR-CALNAME:Climate Action for Lifelong Learners
X-ORIGINAL-URL:https://www.climatelearners.ca
X-WR-CALDESC:Events for Climate Action for Lifelong Learners
REFRESH-INTERVAL;VALUE=DURATION:PT1H
X-Robots-Tag:noindex
X-PUBLISHED-TTL:PT1H
BEGIN:VTIMEZONE
TZID:America/Toronto
BEGIN:DAYLIGHT
TZOFFSETFROM:-0500
TZOFFSETTO:-0400
TZNAME:EDT
DTSTART:20230312T070000
END:DAYLIGHT
BEGIN:STANDARD
TZOFFSETFROM:-0400
TZOFFSETTO:-0500
TZNAME:EST
DTSTART:20231105T060000
END:STANDARD
END:VTIMEZONE
BEGIN:VEVENT
DTSTART;TZID=America/Toronto:20231101T100000
DTEND;TZID=America/Toronto:20231101T113000
DTSTAMP:20260423T021712
CREATED:20230626T133101Z
LAST-MODIFIED:20231108T212320Z
UID:2216-1698832800-1698838200@www.climatelearners.ca
SUMMARY:Climate Change is a Health Emergency
DESCRIPTION:THIS EVENT IS HAS ALREADY OCCURRED. A video recording and other learning resources will be available here shortly. \nOn Wednesday\, November 1st\, Dr. Samantha Green (President-elect of CAPE – the Canadian Association of Physicians for the Environment)\, spoke on why climate change is a health emergency and discussed how climate change can be lessened both through individual choices and through collective advocacy for a healthy environment in Ontario\, where people’s health is not put at risk. \nREGISTRATION IS NOW CLOSED \nDr. Samantha Green is a family physician at St. Michael’s Hospital and Inner City Health Associates\, and Assistant Professor in the Department of Family & Community Medicine at the University of Toronto. \n \n 
URL:https://www.climatelearners.ca/event/placeholder-november-event-2023/
LOCATION:On Zoom\, Canada
CATEGORIES:Monthly learning meeting
ATTACH;FMTTYPE=image/jpeg:https://www.climatelearners.ca/wp-content/uploads/2023/06/Michael-Garron_Emergency-Dock-Photo-2.jpeg
ORGANIZER;CN="CALL - Climate Action for Lifelong Learners":MAILTO:contact.us@climatelearners.ca
END:VEVENT
BEGIN:VEVENT
DTSTART;TZID=America/Toronto:20231114T100000
DTEND;TZID=America/Toronto:20231114T113000
DTSTAMP:20260423T021712
CREATED:20231109T002917Z
LAST-MODIFIED:20231109T003441Z
UID:2572-1699956000-1699961400@www.climatelearners.ca
SUMMARY:CALL-Individual Action Meeting-Tuesday\, November 14\, 2023 at 10:00 a.m. ET
DESCRIPTION:Join our Individual Action interest group for this month’s informal and interactive meeting when we will look at how we can lower emissions in the buildings we live in with a focus on apartment and condo living where these decisions need to be jointly made. Listen to people’s personal stories and strategies that worked for them. \nEach month as an individual action-focused interest group\, we examine and share learnings on how to lower personal emissions within our homes\, the food we eat and the things we do. \n  \nZOOM LINK: https://us02web.zoom.us/j/85456360987?pwd=ZEhyVFJVZ2pGY1JOKzRXZUVRMWdRQT09 \n(Meeting ID: 854 5636 0987 – Passcode: 659676) \nHope to see you there! \n– Sharon \n  \nSharon Zeiler\, Lead/Facilitator \nIndividual Action Interest Group\, CALL \ne-Mail: membership@climatelearners.ca \n  \n 
URL:https://www.climatelearners.ca/event/call-individual-action-meeting-tuesday-november-14-2023-at-1000-a-m-et/
LOCATION:On Zoom\, Canada
ATTACH;FMTTYPE=image/png:https://www.climatelearners.ca/wp-content/uploads/2023/03/Green-Foot_carbon-footprint-graphic.png
END:VEVENT
BEGIN:VEVENT
DTSTART;TZID=America/Toronto:20231115T100000
DTEND;TZID=America/Toronto:20231115T113000
DTSTAMP:20260423T021712
CREATED:20231109T003820Z
LAST-MODIFIED:20231109T013148Z
UID:2578-1700042400-1700047800@www.climatelearners.ca
SUMMARY:CALL-Climate Advocacy Meeting-Wednesday\, November 15\, 2023 @ 10:00 a.m. ET
DESCRIPTION:Join our Climate Advocacy interest group for this month’s informal and interactive meeting where we learn how to be effective advocates in advancing climate solutions at all levels of government in the fight to protect our planet. \nCLICK HERE TO JOIN THE ZOOM MEETING AT THAT TIME \nHope to see you there! \n– Karen & Michael \n  \nKaren Sadlier Brown & Michael Barkley\, Co-Leads/Facilitators \nClimate Advocacy Interest Group\, CALL \ne-Mail: advocacy.action@climatelearners.ca  \n  \n 
URL:https://www.climatelearners.ca/event/call-climate-advocacy-interest-group-meeting-wednesday-november-15-2023-1000-a-m-on-zoom/
LOCATION:On Zoom\, Canada
ATTACH;FMTTYPE=image/png:https://www.climatelearners.ca/wp-content/uploads/2023/05/Female-Activist-photo.png
ORGANIZER;CN="CALL - Climate Action for Lifelong Learners":MAILTO:contact.us@climatelearners.ca
END:VEVENT
BEGIN:VEVENT
DTSTART;TZID=America/Toronto:20231122T160000
DTEND;TZID=America/Toronto:20231122T173000
DTSTAMP:20260423T021712
CREATED:20231109T014608Z
LAST-MODIFIED:20231109T134645Z
UID:2597-1700668800-1700674200@www.climatelearners.ca
SUMMARY:Join CALL for a Book Discussion on Wednesday\, November 22nd at 4 p.m. ET on Zoom
DESCRIPTION:As a follow-up to our September 6th learning meeting on disinformation\, join us for a book discussion on Dr. Michael E. Mann’s book\, “The New Climate War: The Fight to Take Back Our Planet”. \nIn this book\, Dr. E. Mann argues that the old climate war of assault on the basic science of climate change by fossil fuel interests has been replaced by a new climate war. The opponents of climate action now have different tactics: \n\nGetting climate advocates fighting with each other so that we don’t have present a unified voice demanding change;\nDeflecting attention away from the needed systemic or policy solutions to to focus instead on individual behaviour.\n\nCLICK HERE TO REGISTER. You will receive an email confirmation with your personal Zoom link to join the meeting. \nYou do no need to have read the book to enjoy this book discussion. We will provide a summary. \n  \nWe hope to see you there! \nBook Discussion Organizers\, Karen Sadlier Brown & Joanne Hunter \n 
URL:https://www.climatelearners.ca/event/join-call-for-a-book-discussion-on-wednesday-november-22nd-at-4-p-m-et-on-zoom/
LOCATION:On Zoom\, Canada
ATTACH;FMTTYPE=image/png:https://www.climatelearners.ca/wp-content/uploads/2023/11/The-New-Climate-War_book-cover-LAN-view.png
ORGANIZER;CN="CALL - Climate Action for Lifelong Learners":MAILTO:contact.us@climatelearners.ca
END:VEVENT
END:VCALENDAR