BEGIN:VCALENDAR
VERSION:2.0
PRODID:-//Climate Action for Lifelong Learners - ECPv6.11.2//NONSGML v1.0//EN
CALSCALE:GREGORIAN
METHOD:PUBLISH
X-ORIGINAL-URL:https://www.climatelearners.ca
X-WR-CALDESC:Events for Climate Action for Lifelong Learners
REFRESH-INTERVAL;VALUE=DURATION:PT1H
X-Robots-Tag:noindex
X-PUBLISHED-TTL:PT1H
BEGIN:VTIMEZONE
TZID:America/Toronto
BEGIN:DAYLIGHT
TZOFFSETFROM:-0500
TZOFFSETTO:-0400
TZNAME:EDT
DTSTART:20240310T070000
END:DAYLIGHT
BEGIN:STANDARD
TZOFFSETFROM:-0400
TZOFFSETTO:-0500
TZNAME:EST
DTSTART:20241103T060000
END:STANDARD
END:VTIMEZONE
BEGIN:VEVENT
DTSTART;TZID=America/Toronto:20240109T100000
DTEND;TZID=America/Toronto:20240109T113000
DTSTAMP:20260422T230314
CREATED:20240109T233856Z
LAST-MODIFIED:20240701T181026Z
UID:2666-1704794400-1704799800@www.climatelearners.ca
SUMMARY:CALL-Individual Action Interest Group-Monthly Meeting-Tuesday\, January 9\, 2024 @ 10:00 a.m. ET on Zoom
DESCRIPTION:THIS MEETING HAS ALREADY OCCURRED. \nJoin our CALL monthly Individual Action Interest Group meeting on Tuesday\, January 9\, 2024 @ 10:00 a.m. ET on Zoom \nWe will start the year off with a quick check-in about climate events in 2023 and discuss where we would like to go in working with our own multi-unit residential buildings. Bring your great ideas! \nHope to see you then! \n– Sharon \nSharon Zeiler\, Lead/Facilitator \nIndividual Action Interest Group\, CALL \ne-Mail: membership@climatelearners.ca
URL:https://www.climatelearners.ca/event/call-individual-action-interest-group-meeting-tuesday-january-9-2024-1000-a-m-et-on-zoom/
LOCATION:On Zoom\, Canada
ATTACH;FMTTYPE=image/png:https://www.climatelearners.ca/wp-content/uploads/2023/03/Green-Foot_carbon-footprint-graphic.png
END:VEVENT
BEGIN:VEVENT
DTSTART;TZID=America/Toronto:20240110T100000
DTEND;TZID=America/Toronto:20240110T113000
DTSTAMP:20260422T230314
CREATED:20240109T210955Z
LAST-MODIFIED:20240701T180858Z
UID:2655-1704880800-1704886200@www.climatelearners.ca
SUMMARY:Climate Inequality: An Individual Perspective
DESCRIPTION:  \n\n\n\n\nTHIS MEETING HAS ALREADY OCCURRED. \nYOU CAN WATCH THE RECORDING OF CAROLINE’s THOUGHT PROVOKING PRESENTATION HERE. \nOn Wednesday\, January 10th\, 2024\, CALL co-founder Caroline Taylor presented on: CLIMATE INEQUALITY – AN INDIVIDUAL PERSPECTIVE \nClimate change is not an even playing field – people vary in their emissions\, in their risk of harm from climate damage and in their financial ability to recover. We’ll look specifically at emission differences and discuss a few implications and solutions that could help us move toward a world that’s safer and fairer for all.\n\n\n\n  \n 
URL:https://www.climatelearners.ca/event/january-2024-mlm/
LOCATION:On Zoom\, Canada
ORGANIZER;CN="CALL - Climate Action for Lifelong Learners":MAILTO:contact.us@climatelearners.ca
END:VEVENT
BEGIN:VEVENT
DTSTART;TZID=America/Toronto:20240117T100000
DTEND;TZID=America/Toronto:20240117T113000
DTSTAMP:20260422T230314
CREATED:20240109T233200Z
LAST-MODIFIED:20240701T175658Z
UID:2663-1705485600-1705491000@www.climatelearners.ca
SUMMARY:CALL-Climate Advocacy Meeting-Wednesday\, January 17\, 2024 @ 10:00 a.m. ET on Zoom
DESCRIPTION:THIS MEETING HAS ALREADY OCCURRED. \nJoin us for our monthly Climate Advocacy Interest group meeting\, online on Wednesday\, January 17th at 10:00 a.m. ET \nWe will discuss climate action priorities\, perspectives on COP28 and the status of our two working groups: \n\nOntario Energy Transition  Working Group\nClimate Messaging Work Group\n\nHope to see you then 🙂 \n– Karen & Michael \n  \nKaren Sadlier Brown & Michael Barkley\, Co-Leads/Facilitators \nClimate Advocacy Interest Group\, CALL \ne-Mail: advocacy.action@climatelearners.ca  \n 
URL:https://www.climatelearners.ca/event/call-climate-advocacy-meeting-wednesday-january-17-2024-1000-a-m-et-on-zoom/
LOCATION:On Zoom\, Canada
ATTACH;FMTTYPE=image/png:https://www.climatelearners.ca/wp-content/uploads/2023/05/Female-Activist-photo.png
ORGANIZER;CN="CALL - Climate Action for Lifelong Learners":MAILTO:contact.us@climatelearners.ca
END:VEVENT
END:VCALENDAR