BEGIN:VCALENDAR
VERSION:2.0
PRODID:-//Climate Action for Lifelong Learners - ECPv6.11.2//NONSGML v1.0//EN
CALSCALE:GREGORIAN
METHOD:PUBLISH
X-WR-CALNAME:Climate Action for Lifelong Learners
X-ORIGINAL-URL:https://www.climatelearners.ca
X-WR-CALDESC:Events for Climate Action for Lifelong Learners
REFRESH-INTERVAL;VALUE=DURATION:PT1H
X-Robots-Tag:noindex
X-PUBLISHED-TTL:PT1H
BEGIN:VTIMEZONE
TZID:America/Toronto
BEGIN:DAYLIGHT
TZOFFSETFROM:-0500
TZOFFSETTO:-0400
TZNAME:EDT
DTSTART:20240310T070000
END:DAYLIGHT
BEGIN:STANDARD
TZOFFSETFROM:-0400
TZOFFSETTO:-0500
TZNAME:EST
DTSTART:20241103T060000
END:STANDARD
END:VTIMEZONE
BEGIN:VEVENT
DTSTART;TZID=America/Toronto:20240417T100000
DTEND;TZID=America/Toronto:20240417T113000
DTSTAMP:20260420T012913
CREATED:20240415T171151Z
LAST-MODIFIED:20240701T172439Z
UID:2758-1713348000-1713353400@www.climatelearners.ca
SUMMARY:Climate Advocacy Interest Group Meeting - Wednesday\, April 17@10:00 a.m. ET
DESCRIPTION:THIS MEETING HAS ALREADY OCCURRED. \nJoin our Climate Advocacy Interest Group meeting this Wednesday\, April 17th at 10:00 a.m. ET. \nHope to see you then! \nMichael Barkley and Karen Sadlier-Brown – Co-Leads\, CALL’s Climate Advocacy Interest Group \n  \nBACKGROUND NOTES FOR THIS ADVOCACY MEETING: \nTHE CARBON TAX \nYou have probably heard more than enough from “axe the tax” proponents – but given what a hot topic it is\, we thought it is important to hear your views at our meeting on the 17th. \nTo start the discussion Karen is going to provide a brief overview focussing on: \n\nWhat is the consumer carbon tax or rather the carbon levy (as supporters call it)?\nHow much does it cost your pocket book?\nAre there alternative ways to achieve the same outcome?\n\nBefore the meeting on the 17th\, you may want to read this summary from the David Suzuki Foundation: Carbon Pricing 101 \nFor a lively discussion on alternatives to the carbon tax\, here is a link to a podcast supported by the University of Calgary and other foundations. Energy vs Climate’s hosts interview Dr. Mark Jaccard: Hot Topic: Carbon Tax. Dr. Jaccard spoke at one of our early Learning Meetings a few years ago. \nCLIMATE MESSAGING/COMMUNICATION WORKING GROUP \nThere is a lot of very interesting work happening on how to best communicate climate issues and motivate people to support action. In this context\, we note that our Climate Messaging Work Group will be getting together shortly to look at Re.Climate’s latest findings. Re.Climate is located at Carleton University. \nHere are links to Re.Climate’s recent webinar\, the slides and the report: \nWatch the webinar with Chris Hatch from the National Observer and others here. \nRead the Report\, What do Canadians Really Think About Climate Change? A summary of Public Opinion Research for Communicators 2024. \nONTARIO ENERGY TRANSITION WORKING GROUP \nThe Ontario Energy Transition Group looks at the status of Ontario’s energy transition. As with the Messaging group\, we hope to get a zoom meeting together soon. This group is helping to produce a Learning Meeting in the Fall. Here are some links to recent podcasts from Energi Talks that cover the transition and some of the key issues: \nHuge electricity demand growth threatens US power grid \nBig savings for California grid from virtual power plants \n 
URL:https://www.climatelearners.ca/event/climate-advocacy-interest-group-meeting-wednesday-april-171000-a-m-et/
LOCATION:On Zoom\, Canada
ATTACH;FMTTYPE=image/jpeg:https://www.climatelearners.ca/wp-content/uploads/2023/08/CALL-Members-at-April-4th-2022-Climate-March-Queens-Park-2.jpeg
END:VEVENT
BEGIN:VEVENT
DTSTART;TZID=America/Toronto:20240420T100000
DTEND;TZID=America/Toronto:20240420T123000
DTSTAMP:20260420T012913
CREATED:20240411T134541Z
LAST-MODIFIED:20240701T172327Z
UID:2745-1713607200-1713616200@www.climatelearners.ca
SUMMARY:CALL Celebrates Earth Month on April 20\, 2024 at 10:00 a.m. with a TerraCycle Learning Event
DESCRIPTION:THIS EVENT HAS ALREADY OCCURRED. \nCelebrate Earth Day on Saturday\, April 20\, 2024 at 10:00 am ET.\nThis year\, Earthday.org is promoting a 60% reduction of plastic production by 2040. \nThe theme: Planet versus Plastics! \nTo  achieve this 60% reduction\, Earthday.org’s goals are: \n\nPromoting widespread public awareness of the damage done by plastic to human\, animal\, and biodiversity health;\nRapidly phasing out all single use plastics by 2030;\nDemanding policies ending the scourge of fast fashion;\nInvesting in innovative technologies and materials to build a plastic-free world.\n\nCALL has invited Chloe Costa from TerraCycle to present to us. TerraCycle is a company working to “eliminate the idea of waste”.  We will learn about free and for-purchase options to recycle plastic and other types of waste. \n \nTerraCycle recycling boxes
URL:https://www.climatelearners.ca/event/call-celebrates-earth-month-on-april-20-2024-at-1000-a-m-with-a-terracycle-learning-event/
LOCATION:On Zoom\, Canada
END:VEVENT
END:VCALENDAR