BEGIN:VCALENDAR
VERSION:2.0
PRODID:-//Climate Action for Lifelong Learners - ECPv6.11.2//NONSGML v1.0//EN
CALSCALE:GREGORIAN
METHOD:PUBLISH
X-ORIGINAL-URL:https://www.climatelearners.ca
X-WR-CALDESC:Events for Climate Action for Lifelong Learners
REFRESH-INTERVAL;VALUE=DURATION:PT1H
X-Robots-Tag:noindex
X-PUBLISHED-TTL:PT1H
BEGIN:VTIMEZONE
TZID:America/Toronto
BEGIN:DAYLIGHT
TZOFFSETFROM:-0500
TZOFFSETTO:-0400
TZNAME:EDT
DTSTART:20240310T070000
END:DAYLIGHT
BEGIN:STANDARD
TZOFFSETFROM:-0400
TZOFFSETTO:-0500
TZNAME:EST
DTSTART:20241103T060000
END:STANDARD
END:VTIMEZONE
BEGIN:VEVENT
DTSTART;TZID=America/Toronto:20240605T100000
DTEND;TZID=America/Toronto:20240605T113000
DTSTAMP:20260419T220517
CREATED:20240501T131843Z
LAST-MODIFIED:20240701T163027Z
UID:2761-1717581600-1717587000@www.climatelearners.ca
SUMMARY:CALL June Learning Meeting - Biodiversity Conservation: Why does it matter? How you can make a difference? with Professor Ann Dale
DESCRIPTION:THIS EVENT HAS ALREADY OCCURRED. A video recording of this webinar and other learning resources are AVAILABLE HERE. \nOn June 5th\, 2024\, CALL’s featured speaker was Professor Ann Dale\, Professor Emerita at Royal Roads University addressing the critical topic of Biodiversity Conservation: Why does it matter? How you can make a difference? \nProfessor Dale’s presentation focuses on why biodiversity is so important to humanity and what we can do to halt and then reverse great biodiversity loss. She includes an overview of nature-based solutions\, starting in our own backyard and extending to policy changes by governments. \nProfessor Ann Dale\, is a recognized leader in virtual real-time conversations and the production of useful knowledge for decision-makers using social media channels to increase public literacy leading to actions on the ground. She brings extensive government experience to her teaching and research and has been profiled as one of the top 25 minds in the B.C. Business Magazine. \n \n  \n 
URL:https://www.climatelearners.ca/event/biodiversity-conservation-why-does-it-matter-with-dr-ann-dale-call-june-learning-meeting/
LOCATION:On Zoom\, Canada
END:VEVENT
END:VCALENDAR