BEGIN:VCALENDAR
VERSION:2.0
PRODID:-//Climate Action for Lifelong Learners - ECPv6.11.2//NONSGML v1.0//EN
CALSCALE:GREGORIAN
METHOD:PUBLISH
X-WR-CALNAME:Climate Action for Lifelong Learners
X-ORIGINAL-URL:https://www.climatelearners.ca
X-WR-CALDESC:Events for Climate Action for Lifelong Learners
REFRESH-INTERVAL;VALUE=DURATION:PT1H
X-Robots-Tag:noindex
X-PUBLISHED-TTL:PT1H
BEGIN:VTIMEZONE
TZID:America/Toronto
BEGIN:DAYLIGHT
TZOFFSETFROM:-0500
TZOFFSETTO:-0400
TZNAME:EDT
DTSTART:20240310T070000
END:DAYLIGHT
BEGIN:STANDARD
TZOFFSETFROM:-0400
TZOFFSETTO:-0500
TZNAME:EST
DTSTART:20241103T060000
END:STANDARD
END:VTIMEZONE
BEGIN:VEVENT
DTSTART;TZID=America/Toronto:20240911T063000
DTEND;TZID=America/Toronto:20240911T203000
DTSTAMP:20260419T172118
CREATED:20240827T134531Z
LAST-MODIFIED:20241006T162921Z
UID:2931-1726036200-1726086600@www.climatelearners.ca
SUMMARY:National Check-in for the Seniors Day of Climate Action-Wednesday\, Sept 11th@6:30p.m. ET
DESCRIPTION:THIS EVENT HAS ALREADY OCCURRED. CLICK HERE TO VIEW A VIDEO RECORDING OF THE WEBINAR. \nOn September 11th\, 2024\, Seniors for Climate held a second\, national\, ZOOM Meeting to bring everyone up-to-date on what was happening across the country leading up to the first\, inaugural Seniors Day of Action on October 1st.   The webinar helped people learn more about the planned events for October 1st (over 70 seniors climate action events were held across the country!) and find out how to be involved if they weren’t already. \nClick here to download the promotional poster for this pre-event webinar. If you want more information\, email contactinfo@seniorsforclimate.org or visit the Seniors for Climate website. \n  \n 
URL:https://www.climatelearners.ca/event/senior-s-for-climate-pre-oct-1st-check-in-zoom-meeting-wednesday-september-11th630-p-m-et/
LOCATION:On Zoom\, Canada
ATTACH;FMTTYPE=image/jpeg:https://www.climatelearners.ca/wp-content/uploads/2024/08/Sept-11-SFC-Webinar-Promo.jpg
END:VEVENT
BEGIN:VEVENT
DTSTART;TZID=America/Toronto:20240918T100000
DTEND;TZID=America/Toronto:20240918T113000
DTSTAMP:20260419T172118
CREATED:20240823T215707Z
LAST-MODIFIED:20250421T183424Z
UID:2918-1726653600-1726659000@www.climatelearners.ca
SUMMARY:Sustainability\, Pathways to Decarbonization and the Future of Ontario’s Energy Systems
DESCRIPTION:THIS EVENT HAS ALREADY OCCURRED. CLICK HERE TO VIEW HIS PRESENTATION AND ACCESS OTHER RESOURCES from this very informative session. \nOur first learning meeting of the Fall on Wednesday\, September 18 at 10:00 a.m. on Zoom\, was with Professor Mark Winfield\, one of Ontario’s most thoughtful and incisive observers of the energy transition. \nAs the world moves away from fossil fuels\, Ontario faces major challenges in “electrifying everything” from transportation and buildings to industrial activities.  How the province manages the challenges will have major implications for the climate\, economic development\, and our financial and social well-being in the years ahead. \nThrough his presentation and an extended Q&A\, Professor Winfield helped us to reflect on: \n\nThe state of the province’s existing energy system;\nWhere the Ford government’s current policy directions are taking us; and\nThe changes in planning and policy needed to put Ontario on the pathway to a sustainable net-zero future.\n\nMark Winfield is a Professor in the Faculty of Environmental & Urban Change at York University. \n \nHere is his Faculty Profile.
URL:https://www.climatelearners.ca/event/sustainability-pathways-to-decarbonization-and-the-future-of-ontarios-energy-systems/
LOCATION:On Zoom\, Canada
ATTACH;FMTTYPE=image/jpeg:https://www.climatelearners.ca/wp-content/uploads/2023/06/Storm_NeithMacDonald-e1724450735259.jpg
ORGANIZER;CN="CALL - Climate Action for Lifelong Learners":MAILTO:contact.us@climatelearners.ca
END:VEVENT
END:VCALENDAR